BEGIN:VCALENDAR
VERSION:2.0
PRODID:spatie/icalendar-generator
DESCRIPTION:Events from Tempest Dance Studio Washington
X-WR-CALDESC:Events from Tempest Dance Studio Washington
REFRESH-INTERVAL;VALUE=DURATION:PT1440M
X-PUBLISHED-TTL:PT1440M
BEGIN:VTIMEZONE
TZID:Europe/London
BEGIN:DAYLIGHT
DTSTART:20180325T010000Z
TZOFFSETFROM:+0000
TZOFFSETTO:+0100
END:DAYLIGHT
BEGIN:STANDARD
DTSTART:20181028T020000Z
TZOFFSETFROM:+0100
TZOFFSETTO:+0000
END:STANDARD
END:VTIMEZONE
BEGIN:VTIMEZONE
TZID:UTC
BEGIN:STANDARD
DTSTART:20250724T183643Z
TZOFFSETFROM:+0000
TZOFFSETTO:+0000
END:STANDARD
END:VTIMEZONE
BEGIN:VEVENT
UID:18-17
DTSTAMP:20260420T183643Z
SUMMARY:Morning Meditation Taster
LOCATION:
ORGANIZER;CN=Mandy:MAILTO:tempestdanceltd@gmail.com
DTSTART;TZID=Europe/London:20180921T100000
DTEND;TZID=Europe/London:20180921T104500
X-ALT-DESC;FMTTYPE=TEXT/HTML:Escape the stress of every day life. Try a var
 iety of mediations and find one that suits you. Take control of your thoug
 hts and emotions.
CATEGORIES:Meditation
URL;VALUE=URI:https://tempestdance.com/my-calendar/?mc_id=18&#038;vcal=18
METHOD:PUBLISH
END:VEVENT
END:VCALENDAR